BEGIN:VCALENDAR
VERSION:2.0
PRODID:DPCALENDAR
CALSCALE:GREGORIAN
X-WR-TIMEZONE:UTC
BEGIN:VEVENT
DTSTART:20260514T180000Z
DTEND:20260514T193000Z
UID:ec80aea9d70c432f8cdc8fabe533f129
SUMMARY:Club 10-mile TT P164
DTSTAMP:20260122T194332Z
DESCRIPTION:Riders from other clubs and Come and Try riders welcome. £5 entry fee, Crabwood 1st claim members free.\NSign-on from c6.30 at Parc Pale Car Park on B3056 SE of Lyndhurst.  No rider parking at Parc Pale, please park in Lyndhurst village car park.  
X-ALT-DESC;FMTTYPE=text/html:<p>Riders from other clubs and Come and Try riders welcome. £5 entry fee, Crabwood 1st claim members free.</p><p>Sign-on from c6.30 at Parc Pale Car Park on B3056 SE of Lyndhurst.  No rider parking at Parc Pale, please park in Lyndhurst village car park.  </p>
X-ACCESS:1
X-MODIFIED:20260122T195421Z
X-HITS:234
X-URL:
X-COLOR:
END:VEVENT
END:VCALENDAR